BEGIN:VCALENDAR
VERSION:2.0
PRODID:-//Endorso//Watch Free Events//EN
CALSCALE:GREGORIAN
METHOD:PUBLISH
BEGIN:VEVENT
UID:wta-madrid-open-semi-finals-2026-05-07@endorso.com
DTSTAMP:20260424T191215Z
DTSTART:20260507T140000Z
DTEND:20260507T160000Z
SUMMARY:WTA Madrid Open — Semi-Finals (Watch Free with VPN)
DESCRIPTION:The final four women compete for a place in the Madrid Open final. Iga Swiatek and Aryna Sabalenka are expected to be the headline acts on the clay courts.\\n\\nFree on France TV (France).\\n\\nFull guide: https://endorso.com/vpn/watch/wta-madrid-open-semi-finals-2026-05-07
URL:https://endorso.com/vpn/watch/wta-madrid-open-semi-finals-2026-05-07
LOCATION:https://endorso.com/vpn/watch/wta-madrid-open-semi-finals-2026-05-07
END:VEVENT
END:VCALENDAR