BEGIN:VCALENDAR
VERSION:2.0
PRODID:-//Endorso//Watch Free Events//EN
CALSCALE:GREGORIAN
METHOD:PUBLISH
BEGIN:VEVENT
UID:wta-madrid-open-semi-finals-2026-05-01@endorso.com
DTSTAMP:20260422T164323Z
DTSTART:20260501T120000Z
DTEND:20260501T140000Z
SUMMARY:WTA Madrid Open: Semi-Finals — Iga Swiatek vs TBD (Watch Free with VPN)
DESCRIPTION:The top women's players compete for a spot in the Madrid final. Iga Swiatek looks to continue her dominance on the red clay.\\n\\nFree on TVP Sport (Poland).\\n\\nFull guide: https://endorso.com/vpn/watch/wta-madrid-open-semi-finals-2026-05-01
URL:https://endorso.com/vpn/watch/wta-madrid-open-semi-finals-2026-05-01
LOCATION:https://endorso.com/vpn/watch/wta-madrid-open-semi-finals-2026-05-01
END:VEVENT
END:VCALENDAR