BEGIN:VCALENDAR
VERSION:2.0
PRODID:-//Endorso//Watch Free Events//EN
CALSCALE:GREGORIAN
METHOD:PUBLISH
BEGIN:VEVENT
UID:wta-madrid-open-quarterfinals-2026-04-28@endorso.com
DTSTAMP:20260422T105132Z
DTSTART:20260428T110000Z
DTEND:20260428T130000Z
SUMMARY:WTA Madrid Open — Quarterfinals (Watch Free with VPN)
DESCRIPTION:The final eight women battle for a spot in the semifinals at the Madrid Open. Expect high-intensity clay court tennis from the world's best.\\n\\nFree on RTVE Play (Spain).\\n\\nFull guide: https://endorso.com/vpn/watch/wta-madrid-open-quarterfinals-2026-04-28
URL:https://endorso.com/vpn/watch/wta-madrid-open-quarterfinals-2026-04-28
LOCATION:https://endorso.com/vpn/watch/wta-madrid-open-quarterfinals-2026-04-28
END:VEVENT
END:VCALENDAR