BEGIN:VCALENDAR
VERSION:2.0
PRODID:-//Endorso//Watch Free Events//EN
CALSCALE:GREGORIAN
METHOD:PUBLISH
BEGIN:VEVENT
UID:wta-madrid-open-final-swiatek-vs-sabalenka-2026-05-03@endorso.com
DTSTAMP:20260421T192752Z
DTSTART:20260503T163000Z
DTEND:20260503T183000Z
SUMMARY:Iga Swiatek vs Aryna Sabalenka — WTA Madrid Open Final (Watch Free with VPN)
DESCRIPTION:The world's top two women face off for the Madrid title. A rematch of previous clay finals\, this match determines the queen of the Caja Magica.\\n\\nFree on Teledeporte (Spain).\\n\\nFull guide: https://endorso.com/vpn/watch/wta-madrid-open-final-swiatek-vs-sabalenka-2026-05-03
URL:https://endorso.com/vpn/watch/wta-madrid-open-final-swiatek-vs-sabalenka-2026-05-03
LOCATION:https://endorso.com/vpn/watch/wta-madrid-open-final-swiatek-vs-sabalenka-2026-05-03
END:VEVENT
END:VCALENDAR