BEGIN:VCALENDAR
VERSION:2.0
PRODID:-//Endorso//Watch Free Events//EN
CALSCALE:GREGORIAN
METHOD:PUBLISH
BEGIN:VEVENT
UID:wta-madrid-open-final-iga-swiatek-vs-aryna-sabalenka-2026-05-09@endorso.com
DTSTAMP:20260425T040857Z
DTSTART:20260509T163000Z
DTEND:20260509T183000Z
SUMMARY:Iga Swiatek vs Aryna Sabalenka — WTA Madrid Open Final (Watch Free with VPN)
DESCRIPTION:The world's top two women face off for the Madrid title. A rematch of previous clay-court finals\, showcasing power versus precision.\\n\\nFree on TVP Sport (Poland).\\n\\nFull guide: https://endorso.com/vpn/watch/wta-madrid-open-final-iga-swiatek-vs-aryna-sabalenka-2026-05-09
URL:https://endorso.com/vpn/watch/wta-madrid-open-final-iga-swiatek-vs-aryna-sabalenka-2026-05-09
LOCATION:https://endorso.com/vpn/watch/wta-madrid-open-final-iga-swiatek-vs-aryna-sabalenka-2026-05-09
END:VEVENT
END:VCALENDAR