BEGIN:VCALENDAR
VERSION:2.0
PRODID:-//Endorso//Watch Free Events//EN
CALSCALE:GREGORIAN
METHOD:PUBLISH
BEGIN:VEVENT
UID:wta-madrid-open-final-2026-05-02@endorso.com
DTSTAMP:20260422T104447Z
DTSTART:20260502T163000Z
DTEND:20260502T183000Z
SUMMARY:WTA Madrid Open — Final (Watch Free with VPN)
DESCRIPTION:The championship match of the women's draw in Madrid. Two finalists compete for the prestigious trophy and 1000 ranking points.\\n\\nFree on La 1 (Spain).\\n\\nFull guide: https://endorso.com/vpn/watch/wta-madrid-open-final-2026-05-02
URL:https://endorso.com/vpn/watch/wta-madrid-open-final-2026-05-02
LOCATION:https://endorso.com/vpn/watch/wta-madrid-open-final-2026-05-02
END:VEVENT
END:VCALENDAR