BEGIN:VCALENDAR
VERSION:2.0
PRODID:-//Endorso//Watch Free Events//EN
CALSCALE:GREGORIAN
METHOD:PUBLISH
BEGIN:VEVENT
UID:wta-italian-open-round-1-2026-05-05@endorso.com
DTSTAMP:20260425T024424Z
DTSTART:20260505T090000Z
DTEND:20260505T110000Z
SUMMARY:WTA Italian Open — Round 1 (Watch Free with VPN)
DESCRIPTION:The women's draw begins in Rome. Iga Swiatek and Aryna Sabalenka look to dominate the clay courts of Italy.\\n\\nFree on SuperTennis (via TV8) (Italy).\\n\\nFull guide: https://endorso.com/vpn/watch/wta-italian-open-round-1-2026-05-05
URL:https://endorso.com/vpn/watch/wta-italian-open-round-1-2026-05-05
LOCATION:https://endorso.com/vpn/watch/wta-italian-open-round-1-2026-05-05
END:VEVENT
END:VCALENDAR