BEGIN:VCALENDAR
VERSION:2.0
PRODID:-//Endorso//Watch Free Events//EN
CALSCALE:GREGORIAN
METHOD:PUBLISH
BEGIN:VEVENT
UID:wrc-rally-portugal-day-1-2026-05-07@endorso.com
DTSTAMP:20260425T104449Z
DTSTART:20260507T080000Z
DTEND:20260507T100000Z
SUMMARY:WRC Rally Portugal — Day 1 (Watch Free with VPN)
DESCRIPTION:The World Rally Championship hits the gravel of Portugal. High-speed jumps and technical stages await.\\n\\nFree on RTP Play (Portugal).\\n\\nFull guide: https://endorso.com/vpn/watch/wrc-rally-portugal-day-1-2026-05-07
URL:https://endorso.com/vpn/watch/wrc-rally-portugal-day-1-2026-05-07
LOCATION:https://endorso.com/vpn/watch/wrc-rally-portugal-day-1-2026-05-07
END:VEVENT
END:VCALENDAR