BEGIN:VCALENDAR
VERSION:2.0
PRODID:-//Endorso//Watch Free Events//EN
CALSCALE:GREGORIAN
METHOD:PUBLISH
BEGIN:VEVENT
UID:wrc-rally-portugal-day-1-2026-05-01@endorso.com
DTSTAMP:20260422T045420Z
DTSTART:20260501T070000Z
DTEND:20260501T090000Z
SUMMARY:WRC Rally Portugal — Day 1 (Watch Free with VPN)
DESCRIPTION:The gravel season begins in earnest. Drivers tackle the dusty and technical stages of northern Portugal.\\n\\nFree on RTP Play (Portugal).\\n\\nFull guide: https://endorso.com/vpn/watch/wrc-rally-portugal-day-1-2026-05-01
URL:https://endorso.com/vpn/watch/wrc-rally-portugal-day-1-2026-05-01
LOCATION:https://endorso.com/vpn/watch/wrc-rally-portugal-day-1-2026-05-01
END:VEVENT
END:VCALENDAR