BEGIN:VCALENDAR
VERSION:2.0
PRODID:-//Endorso//Watch Free Events//EN
CALSCALE:GREGORIAN
METHOD:PUBLISH
BEGIN:VEVENT
UID:wrc-rally-portugal-2026-05-03@endorso.com
DTSTAMP:20260420T111638Z
DTSTART:20260503T080000Z
DTEND:20260503T100000Z
SUMMARY:WRC Rally Portugal (Watch Free with VPN)
DESCRIPTION:Final day of Rally Portugal. The drivers push to the limit to secure their positions. Watch live to see who emerges victorious.\\n\\nFree on Red Bull TV (Worldwide).\\n\\nFull guide: https://endorso.com/vpn/watch/wrc-rally-portugal-2026-05-03
URL:https://endorso.com/vpn/watch/wrc-rally-portugal-2026-05-03
LOCATION:https://endorso.com/vpn/watch/wrc-rally-portugal-2026-05-03
END:VEVENT
END:VCALENDAR