BEGIN:VCALENDAR
VERSION:2.0
PRODID:-//Endorso//Watch Free Events//EN
CALSCALE:GREGORIAN
METHOD:PUBLISH
BEGIN:VEVENT
UID:wrc-rally-portugal-2026-05-02@endorso.com
DTSTAMP:20260420T111546Z
DTSTART:20260502T080000Z
DTEND:20260502T100000Z
SUMMARY:WRC Rally Portugal (Watch Free with VPN)
DESCRIPTION:Day 2 of Rally Portugal. Drivers continue to battle the challenging gravel stages. Expect intense competition and potential drama.\\n\\nFree on Red Bull TV (Worldwide).\\n\\nFull guide: https://endorso.com/vpn/watch/wrc-rally-portugal-2026-05-02
URL:https://endorso.com/vpn/watch/wrc-rally-portugal-2026-05-02
LOCATION:https://endorso.com/vpn/watch/wrc-rally-portugal-2026-05-02
END:VEVENT
END:VCALENDAR