BEGIN:VCALENDAR
VERSION:2.0
PRODID:-//Endorso//Watch Free Events//EN
CALSCALE:GREGORIAN
METHOD:PUBLISH
BEGIN:VEVENT
UID:wrc-rally-portugal-2026-05-01@endorso.com
DTSTAMP:20260420T111632Z
DTSTART:20260501T080000Z
DTEND:20260501T100000Z
SUMMARY:WRC Rally Portugal (Watch Free with VPN)
DESCRIPTION:The Rally Portugal is a challenging gravel rally on the WRC calendar. Drivers will face tough conditions and demanding stages. Watch live to see who can conquer the Portuguese terrain.\\n\\nFree on Red Bull TV (Worldwide).\\n\\nFull guide: https://endorso.com/vpn/watch/wrc-rally-portugal-2026-05-01
URL:https://endorso.com/vpn/watch/wrc-rally-portugal-2026-05-01
LOCATION:https://endorso.com/vpn/watch/wrc-rally-portugal-2026-05-01
END:VEVENT
END:VCALENDAR