BEGIN:VCALENDAR
VERSION:2.0
PRODID:-//Endorso//Watch Free Events//EN
CALSCALE:GREGORIAN
METHOD:PUBLISH
BEGIN:VEVENT
UID:urc-stormers-vs-leinster-2026-05-02@endorso.com
DTSTAMP:20260422T163429Z
DTSTART:20260502T170000Z
DTEND:20260502T190000Z
SUMMARY:Stormers vs Leinster — United Rugby Championship (Watch Free with VPN)
DESCRIPTION:A cross-hemisphere heavyweight clash in Cape Town. The Stormers host the Irish giants Leinster in a match that could decide home-field advantage for the playoffs.\\n\\nFree on RTÉ Player (Ireland).\\n\\nFull guide: https://endorso.com/vpn/watch/urc-stormers-vs-leinster-2026-05-02
URL:https://endorso.com/vpn/watch/urc-stormers-vs-leinster-2026-05-02
LOCATION:https://endorso.com/vpn/watch/urc-stormers-vs-leinster-2026-05-02
END:VEVENT
END:VCALENDAR