BEGIN:VCALENDAR
VERSION:2.0
PRODID:-//Endorso//Watch Free Events//EN
CALSCALE:GREGORIAN
METHOD:PUBLISH
BEGIN:VEVENT
UID:urc-stormers-vs-leinster-2026-04-25@endorso.com
DTSTAMP:20260425T204314Z
DTSTART:20260425T170500Z
DTEND:20260425T190500Z
SUMMARY:Stormers vs Leinster — United Rugby Championship (Watch Free with VPN)
DESCRIPTION:A cross-hemisphere battle in Cape Town. The Stormers host the Irish giants Leinster in a match that could decide home advantage for the URC playoffs.\\n\\nFree on SABC 2 (South Africa).\\n\\nFull guide: https://endorso.com/vpn/watch/urc-stormers-vs-leinster-2026-04-25
URL:https://endorso.com/vpn/watch/urc-stormers-vs-leinster-2026-04-25
LOCATION:https://endorso.com/vpn/watch/urc-stormers-vs-leinster-2026-04-25
END:VEVENT
END:VCALENDAR