BEGIN:VCALENDAR
VERSION:2.0
PRODID:-//Endorso//Watch Free Events//EN
CALSCALE:GREGORIAN
METHOD:PUBLISH
BEGIN:VEVENT
UID:urc-leinster-vs-stormers-2026-05-08@endorso.com
DTSTAMP:20260425T040447Z
DTSTART:20260508T193500Z
DTEND:20260508T213500Z
SUMMARY:Leinster vs Stormers — United Rugby Championship (Watch Free with VPN)
DESCRIPTION:A cross-hemisphere clash in the URC as Irish giants Leinster host the South African Stormers. This match carries heavy implications for the top of the table.\\n\\nFree on RTÉ Player (Ireland).\\n\\nFull guide: https://endorso.com/vpn/watch/urc-leinster-vs-stormers-2026-05-08
URL:https://endorso.com/vpn/watch/urc-leinster-vs-stormers-2026-05-08
LOCATION:https://endorso.com/vpn/watch/urc-leinster-vs-stormers-2026-05-08
END:VEVENT
END:VCALENDAR