BEGIN:VCALENDAR
VERSION:2.0
PRODID:-//Endorso//Watch Free Events//EN
CALSCALE:GREGORIAN
METHOD:PUBLISH
BEGIN:VEVENT
UID:united-rugby-championship-leinster-vs-stormers-2026-05-01@endorso.com
DTSTAMP:20260422T105256Z
DTSTART:20260501T183500Z
DTEND:20260501T203500Z
SUMMARY:Leinster vs Stormers — URC (Watch Free with VPN)
DESCRIPTION:A clash of hemispheres as Ireland's Leinster hosts South Africa's Stormers. This match could decide the top spot in the URC standings.\\n\\nFree on RTÉ Player (Ireland).\\n\\nFull guide: https://endorso.com/vpn/watch/united-rugby-championship-leinster-vs-stormers-2026-05-01
URL:https://endorso.com/vpn/watch/united-rugby-championship-leinster-vs-stormers-2026-05-01
LOCATION:https://endorso.com/vpn/watch/united-rugby-championship-leinster-vs-stormers-2026-05-01
END:VEVENT
END:VCALENDAR