BEGIN:VCALENDAR
VERSION:2.0
PRODID:-//Endorso//Watch Free Events//EN
CALSCALE:GREGORIAN
METHOD:PUBLISH
BEGIN:VEVENT
UID:ufc-fight-night-prelims-2026-04-25@endorso.com
DTSTAMP:20260424T182940Z
DTSTART:20260425T200000Z
DTEND:20260425T220000Z
SUMMARY:UFC Fight Night: Sandhagen vs. Nurmagomedov — Prelims (Watch Free with VPN)
DESCRIPTION:The rising stars of the UFC showcase their skills in the preliminary bouts from Las Vegas.\\n\\nFree on YouTube (Global).\\n\\nFull guide: https://endorso.com/vpn/watch/ufc-fight-night-prelims-2026-04-25
URL:https://endorso.com/vpn/watch/ufc-fight-night-prelims-2026-04-25
LOCATION:https://endorso.com/vpn/watch/ufc-fight-night-prelims-2026-04-25
END:VEVENT
END:VCALENDAR