BEGIN:VCALENDAR
VERSION:2.0
PRODID:-//Endorso//Watch Free Events//EN
CALSCALE:GREGORIAN
METHOD:PUBLISH
BEGIN:VEVENT
UID:ufc-fight-night-apexarena-main-card-2026-04-25@endorso.com
DTSTAMP:20260420T111813Z
DTSTART:20260426T000000Z
DTEND:20260426T020000Z
SUMMARY:UFC Fight Night at ApexArena - Main Card (Watch Free with VPN)
DESCRIPTION:Main card for the UFC Fight Night event. Featuring top-ranked fighters in exciting matchups. Don't miss the headlining bout and other thrilling fights.\\n\\nFree on TV Globo/Globoplay (Brazil).\\n\\nFull guide: https://endorso.com/vpn/watch/ufc-fight-night-apexarena-main-card-2026-04-25
URL:https://endorso.com/vpn/watch/ufc-fight-night-apexarena-main-card-2026-04-25
LOCATION:https://endorso.com/vpn/watch/ufc-fight-night-apexarena-main-card-2026-04-25
END:VEVENT
END:VCALENDAR