BEGIN:VCALENDAR
VERSION:2.0
PRODID:-//Endorso//Watch Free Events//EN
CALSCALE:GREGORIAN
METHOD:PUBLISH
BEGIN:VEVENT
UID:ufc-fight-night-apex-arena-2026-04-25-prelims@endorso.com
DTSTAMP:20260421T050432Z
DTSTART:20260425T210000Z
DTEND:20260425T230000Z
SUMMARY:UFC Fight Night at Apex Arena — Prelims (Watch Free with VPN)
DESCRIPTION:Preliminary card fights from the UFC Fight Night event at the Apex Arena. Up-and-coming fighters looking to make a name for themselves. Tune in for rising stars.\\n\\nFree on Pluto TV (USA).\\n\\nFull guide: https://endorso.com/vpn/watch/ufc-fight-night-apex-arena-2026-04-25-prelims
URL:https://endorso.com/vpn/watch/ufc-fight-night-apex-arena-2026-04-25-prelims
LOCATION:https://endorso.com/vpn/watch/ufc-fight-night-apex-arena-2026-04-25-prelims
END:VEVENT
END:VCALENDAR