BEGIN:VCALENDAR
VERSION:2.0
PRODID:-//Endorso//Watch Free Events//EN
CALSCALE:GREGORIAN
METHOD:PUBLISH
BEGIN:VEVENT
UID:ufc-fight-night-apex-arena-2026-04-25-main-card@endorso.com
DTSTAMP:20260421T050535Z
DTSTART:20260426T000000Z
DTEND:20260426T020000Z
SUMMARY:UFC Fight Night at Apex Arena — Main Card (Watch Free with VPN)
DESCRIPTION:Main card fights from the UFC Fight Night event at the Apex Arena. High-stakes matchups with potential title implications. Watch for exciting finishes.\\n\\nFree on Pluto TV (USA).\\n\\nFull guide: https://endorso.com/vpn/watch/ufc-fight-night-apex-arena-2026-04-25-main-card
URL:https://endorso.com/vpn/watch/ufc-fight-night-apex-arena-2026-04-25-main-card
LOCATION:https://endorso.com/vpn/watch/ufc-fight-night-apex-arena-2026-04-25-main-card
END:VEVENT
END:VCALENDAR