BEGIN:VCALENDAR
VERSION:2.0
PRODID:-//Endorso//Watch Free Events//EN
CALSCALE:GREGORIAN
METHOD:PUBLISH
BEGIN:VEVENT
UID:ufc-324-main-card-jones-vs-aspinall-2026-05-02@endorso.com
DTSTAMP:20260425T213448Z
DTSTART:20260503T020000Z
DTEND:20260503T040000Z
SUMMARY:UFC 324: Jones vs. Aspinall — Main Card (Watch Free with VPN)
DESCRIPTION:The highly anticipated heavyweight title unification bout. Jon Jones faces the rising star Tom Aspinall in a legacy-defining fight.\\n\\nFree on Globoplay (Brazil).\\n\\nFull guide: https://endorso.com/vpn/watch/ufc-324-main-card-jones-vs-aspinall-2026-05-02
URL:https://endorso.com/vpn/watch/ufc-324-main-card-jones-vs-aspinall-2026-05-02
LOCATION:https://endorso.com/vpn/watch/ufc-324-main-card-jones-vs-aspinall-2026-05-02
END:VEVENT
END:VCALENDAR