BEGIN:VCALENDAR
VERSION:2.0
PRODID:-//Endorso//Watch Free Events//EN
CALSCALE:GREGORIAN
METHOD:PUBLISH
BEGIN:VEVENT
UID:ufc-324-main-card-2026-05-02@endorso.com
DTSTAMP:20260422T044839Z
DTSTART:20260503T020000Z
DTEND:20260503T040000Z
SUMMARY:UFC 324: Main Card — T-Mobile Arena (Watch Free with VPN)
DESCRIPTION:A massive numbered event in Las Vegas. Two world titles are on the line in what promises to be the biggest combat sports event of the spring.\\n\\nFree on YouTube (Global).\\n\\nFull guide: https://endorso.com/vpn/watch/ufc-324-main-card-2026-05-02
URL:https://endorso.com/vpn/watch/ufc-324-main-card-2026-05-02
LOCATION:https://endorso.com/vpn/watch/ufc-324-main-card-2026-05-02
END:VEVENT
END:VCALENDAR