BEGIN:VCALENDAR
VERSION:2.0
PRODID:-//Endorso//Watch Free Events//EN
CALSCALE:GREGORIAN
METHOD:PUBLISH
BEGIN:VEVENT
UID:ufc-314-main-card-2026-05-02@endorso.com
DTSTAMP:20260421T192355Z
DTSTART:20260503T020000Z
DTEND:20260503T040000Z
SUMMARY:UFC 314: Makhachev vs. Edwards — Main Card (Watch Free with VPN)
DESCRIPTION:A historic champion vs. champion clash as Islam Makhachev defends his lightweight title against Leon Edwards in a cross-divisional mega-fight.\\n\\nFree on Globoplay (Brazil).\\n\\nFull guide: https://endorso.com/vpn/watch/ufc-314-main-card-2026-05-02
URL:https://endorso.com/vpn/watch/ufc-314-main-card-2026-05-02
LOCATION:https://endorso.com/vpn/watch/ufc-314-main-card-2026-05-02
END:VEVENT
END:VCALENDAR