BEGIN:VCALENDAR
VERSION:2.0
PRODID:-//Endorso//Watch Free Events//EN
CALSCALE:GREGORIAN
METHOD:PUBLISH
BEGIN:VEVENT
UID:ufc-312-main-card-2026-05-09@endorso.com
DTSTAMP:20260425T104540Z
DTSTART:20260510T020000Z
DTEND:20260510T040000Z
SUMMARY:UFC 312: Makhachev vs. Oliveira 3 (Watch Free with VPN)
DESCRIPTION:The trilogy fight for the Lightweight Championship. Two of the best grapplers in MMA history settle the score.\\n\\nFree on YouTube (Prelims) (Global).\\n\\nFull guide: https://endorso.com/vpn/watch/ufc-312-main-card-2026-05-09
URL:https://endorso.com/vpn/watch/ufc-312-main-card-2026-05-09
LOCATION:https://endorso.com/vpn/watch/ufc-312-main-card-2026-05-09
END:VEVENT
END:VCALENDAR