BEGIN:VCALENDAR
VERSION:2.0
PRODID:-//Endorso//Watch Free Events//EN
CALSCALE:GREGORIAN
METHOD:PUBLISH
BEGIN:VEVENT
UID:ufc-302-prelims-2026-05-02@endorso.com
DTSTAMP:20260421T050351Z
DTSTART:20260502T210000Z
DTEND:20260502T230000Z
SUMMARY:UFC 302 — Prelims (Watch Free with VPN)
DESCRIPTION:Preliminary card fights from UFC 302. Up-and-coming fighters looking to make a name for themselves. Tune in for rising stars.\\n\\nFree on Pluto TV (USA).\\n\\nFull guide: https://endorso.com/vpn/watch/ufc-302-prelims-2026-05-02
URL:https://endorso.com/vpn/watch/ufc-302-prelims-2026-05-02
LOCATION:https://endorso.com/vpn/watch/ufc-302-prelims-2026-05-02
END:VEVENT
END:VCALENDAR