BEGIN:VCALENDAR
VERSION:2.0
PRODID:-//Endorso//Watch Free Events//EN
CALSCALE:GREGORIAN
METHOD:PUBLISH
BEGIN:VEVENT
UID:ufc-302-main-card-2026-05-02@endorso.com
DTSTAMP:20260421T050350Z
DTSTART:20260503T020000Z
DTEND:20260503T040000Z
SUMMARY:UFC 302 — Main Card (Watch Free with VPN)
DESCRIPTION:Main card fights from UFC 302. High-stakes matchups with potential title implications. Watch for exciting finishes.\\n\\nFree on Pluto TV (USA).\\n\\nFull guide: https://endorso.com/vpn/watch/ufc-302-main-card-2026-05-02
URL:https://endorso.com/vpn/watch/ufc-302-main-card-2026-05-02
LOCATION:https://endorso.com/vpn/watch/ufc-302-main-card-2026-05-02
END:VEVENT
END:VCALENDAR