BEGIN:VCALENDAR
VERSION:2.0
PRODID:-//Endorso//Watch Free Events//EN
CALSCALE:GREGORIAN
METHOD:PUBLISH
BEGIN:VEVENT
UID:ucl-semifinal-leg-2-arsenal-vs-barcelona-2026-05-06@endorso.com
DTSTAMP:20260425T111437Z
DTSTART:20260506T190000Z
DTEND:20260506T210000Z
SUMMARY:Arsenal vs Barcelona — Champions League (Watch Free with VPN)
DESCRIPTION:The second leg of the UCL semi-final. Arsenal looks to overturn a deficit or hold a lead against a resurgent Barcelona side at the Emirates Stadium.\\n\\nFree on ORF (Austria).\\n\\nFull guide: https://endorso.com/vpn/watch/ucl-semifinal-leg-2-arsenal-vs-barcelona-2026-05-06
URL:https://endorso.com/vpn/watch/ucl-semifinal-leg-2-arsenal-vs-barcelona-2026-05-06
LOCATION:https://endorso.com/vpn/watch/ucl-semifinal-leg-2-arsenal-vs-barcelona-2026-05-06
END:VEVENT
END:VCALENDAR