BEGIN:VCALENDAR
VERSION:2.0
PRODID:-//Endorso//Watch Free Events//EN
CALSCALE:GREGORIAN
METHOD:PUBLISH
BEGIN:VEVENT
UID:ucl-semifinal-leg-1-real-madrid-vs-manchester-city-2026-04-28@endorso.com
DTSTAMP:20260425T104540Z
DTSTART:20260428T190000Z
DTEND:20260428T210000Z
SUMMARY:Real Madrid vs Manchester City — Champions League (Watch Free with VPN)
DESCRIPTION:The giants of Europe meet in the first leg of the Champions League semi-finals. A tactical masterclass is expected as the kings of the competition face the defending champions.\\n\\nFree on ORF (Austria).\\n\\nFull guide: https://endorso.com/vpn/watch/ucl-semifinal-leg-1-real-madrid-vs-manchester-city-2026-04-28
URL:https://endorso.com/vpn/watch/ucl-semifinal-leg-1-real-madrid-vs-manchester-city-2026-04-28
LOCATION:https://endorso.com/vpn/watch/ucl-semifinal-leg-1-real-madrid-vs-manchester-city-2026-04-28
END:VEVENT
END:VCALENDAR