BEGIN:VCALENDAR
VERSION:2.0
PRODID:-//Endorso//Watch Free Events//EN
CALSCALE:GREGORIAN
METHOD:PUBLISH
BEGIN:VEVENT
UID:super-rugby-pacific-round-12-hurricanes-vs-highlanders-2026-05-03@endorso.com
DTSTAMP:20260419T195627Z
DTSTART:20260503T043500Z
DTEND:20260503T063500Z
SUMMARY:Hurricanes vs Highlanders — Super Rugby Pacific Round 12 (Watch Free with VPN)
DESCRIPTION:The Hurricanes battle the Highlanders in a Super Rugby Pacific Round 12 match. Both teams are looking to secure a vital win.\\n\\nFree on TVNZ (New Zealand).\\n\\nFull guide: https://endorso.com/vpn/watch/super-rugby-pacific-round-12-hurricanes-vs-highlanders-2026-05-03
URL:https://endorso.com/vpn/watch/super-rugby-pacific-round-12-hurricanes-vs-highlanders-2026-05-03
LOCATION:https://endorso.com/vpn/watch/super-rugby-pacific-round-12-hurricanes-vs-highlanders-2026-05-03
END:VEVENT
END:VCALENDAR