BEGIN:VCALENDAR
VERSION:2.0
PRODID:-//Endorso//Watch Free Events//EN
CALSCALE:GREGORIAN
METHOD:PUBLISH
BEGIN:VEVENT
UID:super-rugby-pacific-round-12-crusaders-vs-chiefs-2026-05-02@endorso.com
DTSTAMP:20260419T171701Z
DTSTART:20260502T070500Z
DTEND:20260502T090500Z
SUMMARY:Crusaders vs Chiefs — Super Rugby Pacific Round 12 (Watch Free with VPN)
DESCRIPTION:The Crusaders host the Chiefs in a Super Rugby Pacific Round 12 match. This is a highly anticipated match between two of the top teams in the competition.\\n\\nFree on TVNZ (New Zealand).\\n\\nFull guide: https://endorso.com/vpn/watch/super-rugby-pacific-round-12-crusaders-vs-chiefs-2026-05-02
URL:https://endorso.com/vpn/watch/super-rugby-pacific-round-12-crusaders-vs-chiefs-2026-05-02
LOCATION:https://endorso.com/vpn/watch/super-rugby-pacific-round-12-crusaders-vs-chiefs-2026-05-02
END:VEVENT
END:VCALENDAR