BEGIN:VCALENDAR
VERSION:2.0
PRODID:-//Endorso//Watch Free Events//EN
CALSCALE:GREGORIAN
METHOD:PUBLISH
BEGIN:VEVENT
UID:super-rugby-pacific-round-12-crusaders-vs-blues-2026-05-02@endorso.com
DTSTAMP:20260419T195627Z
DTSTART:20260502T060500Z
DTEND:20260502T080500Z
SUMMARY:Crusaders vs Blues — Super Rugby Pacific Round 12 (Watch Free with VPN)
DESCRIPTION:The Crusaders face the Blues in a Super Rugby Pacific Round 12 match. Both teams are vying for a strong position in the league standings.\\n\\nFree on TVNZ (New Zealand).\\n\\nFull guide: https://endorso.com/vpn/watch/super-rugby-pacific-round-12-crusaders-vs-blues-2026-05-02
URL:https://endorso.com/vpn/watch/super-rugby-pacific-round-12-crusaders-vs-blues-2026-05-02
LOCATION:https://endorso.com/vpn/watch/super-rugby-pacific-round-12-crusaders-vs-blues-2026-05-02
END:VEVENT
END:VCALENDAR