BEGIN:VCALENDAR
VERSION:2.0
PRODID:-//Endorso//Watch Free Events//EN
CALSCALE:GREGORIAN
METHOD:PUBLISH
BEGIN:VEVENT
UID:super-rugby-pacific-round-12-blues-vs-hurricanes-2026-05-03@endorso.com
DTSTAMP:20260419T140719Z
DTSTART:20260503T043500Z
DTEND:20260503T063500Z
SUMMARY:Blues vs Hurricanes — Super Rugby Pacific Round 12 (Watch Free with VPN)
DESCRIPTION:The Blues host the Hurricanes in a Super Rugby Pacific Round 12 match. This is a crucial game for both teams as they battle for playoff positioning.\\n\\nFree on SBS On Demand (Australia).\\n\\nFull guide: https://endorso.com/vpn/watch/super-rugby-pacific-round-12-blues-vs-hurricanes-2026-05-03
URL:https://endorso.com/vpn/watch/super-rugby-pacific-round-12-blues-vs-hurricanes-2026-05-03
LOCATION:https://endorso.com/vpn/watch/super-rugby-pacific-round-12-blues-vs-hurricanes-2026-05-03
END:VEVENT
END:VCALENDAR