BEGIN:VCALENDAR
VERSION:2.0
PRODID:-//Endorso//Watch Free Events//EN
CALSCALE:GREGORIAN
METHOD:PUBLISH
BEGIN:VEVENT
UID:super-rugby-pacific-round-11-crusaders-vs-chiefs-2026-04-27@endorso.com
DTSTAMP:20260419T140430Z
DTSTART:20260427T060500Z
DTEND:20260427T080500Z
SUMMARY:Crusaders vs Chiefs — Super Rugby Pacific Round 11 (Watch Free with VPN)
DESCRIPTION:The Crusaders host the Chiefs in a Super Rugby Pacific Round 11 match. Expect a hard-fought battle between two of the top teams in the competition.\\n\\nFree on SBS On Demand (Australia).\\n\\nFull guide: https://endorso.com/vpn/watch/super-rugby-pacific-round-11-crusaders-vs-chiefs-2026-04-27
URL:https://endorso.com/vpn/watch/super-rugby-pacific-round-11-crusaders-vs-chiefs-2026-04-27
LOCATION:https://endorso.com/vpn/watch/super-rugby-pacific-round-11-crusaders-vs-chiefs-2026-04-27
END:VEVENT
END:VCALENDAR