BEGIN:VCALENDAR
VERSION:2.0
PRODID:-//Endorso//Watch Free Events//EN
CALSCALE:GREGORIAN
METHOD:PUBLISH
BEGIN:VEVENT
UID:super-rugby-pacific-round-11-blues-vs-chiefs-2026-05-03@endorso.com
DTSTAMP:20260421T050350Z
DTSTART:20260503T060500Z
DTEND:20260503T080500Z
SUMMARY:Blues vs Chiefs — Super Rugby Pacific Round 11 (Watch Free with VPN)
DESCRIPTION:The Blues face the Chiefs in a Super Rugby Pacific Round 11 match. This is a crucial game for both teams as they aim to climb the league standings. Rugby fans will be looking for live streams to watch this exciting contest.\\n\\nFree on TVNZ (New Zealand).\\n\\nFull guide: https://endorso.com/vpn/watch/super-rugby-pacific-round-11-blues-vs-chiefs-2026-05-03
URL:https://endorso.com/vpn/watch/super-rugby-pacific-round-11-blues-vs-chiefs-2026-05-03
LOCATION:https://endorso.com/vpn/watch/super-rugby-pacific-round-11-blues-vs-chiefs-2026-05-03
END:VEVENT
END:VCALENDAR