BEGIN:VCALENDAR
VERSION:2.0
PRODID:-//Endorso//Watch Free Events//EN
CALSCALE:GREGORIAN
METHOD:PUBLISH
BEGIN:VEVENT
UID:super-rugby-pacific-round-10-hurricanes-vs-crusaders-2026-04-26@endorso.com
DTSTAMP:20260421T045126Z
DTSTART:20260426T060500Z
DTEND:20260426T080500Z
SUMMARY:Hurricanes vs Crusaders — Super Rugby Pacific Round 10 (Watch Free with VPN)
DESCRIPTION:The Hurricanes face the Crusaders in a Super Rugby Pacific Round 10 match. This is a crucial game for both teams as they aim to climb the league standings. Rugby fans will be looking for live streams to watch this exciting contest.\\n\\nFree on TVNZ (New Zealand).\\n\\nFull guide: https://endorso.com/vpn/watch/super-rugby-pacific-round-10-hurricanes-vs-crusaders-2026-04-26
URL:https://endorso.com/vpn/watch/super-rugby-pacific-round-10-hurricanes-vs-crusaders-2026-04-26
LOCATION:https://endorso.com/vpn/watch/super-rugby-pacific-round-10-hurricanes-vs-crusaders-2026-04-26
END:VEVENT
END:VCALENDAR