BEGIN:VCALENDAR
VERSION:2.0
PRODID:-//Endorso//Watch Free Events//EN
CALSCALE:GREGORIAN
METHOD:PUBLISH
BEGIN:VEVENT
UID:super-rugby-pacific-round-10-blues-vs-chiefs-2026-04-20@endorso.com
DTSTAMP:20260419T195638Z
DTSTART:20260420T043500Z
DTEND:20260420T063500Z
SUMMARY:Blues vs Chiefs — Super Rugby Pacific Round 10 (Watch Free with VPN)
DESCRIPTION:The Blues battle the Chiefs in a Super Rugby Pacific Round 10 match. Both teams are looking to secure a vital win.\\n\\nFree on TVNZ (New Zealand).\\n\\nFull guide: https://endorso.com/vpn/watch/super-rugby-pacific-round-10-blues-vs-chiefs-2026-04-20
URL:https://endorso.com/vpn/watch/super-rugby-pacific-round-10-blues-vs-chiefs-2026-04-20
LOCATION:https://endorso.com/vpn/watch/super-rugby-pacific-round-10-blues-vs-chiefs-2026-04-20
END:VEVENT
END:VCALENDAR