BEGIN:VCALENDAR
VERSION:2.0
PRODID:-//Endorso//Watch Free Events//EN
CALSCALE:GREGORIAN
METHOD:PUBLISH
BEGIN:VEVENT
UID:super-rugby-pacific-reds-vs-chiefs-2026-05-01@endorso.com
DTSTAMP:20260424T183022Z
DTSTART:20260501T093500Z
DTEND:20260501T113500Z
SUMMARY:Reds vs Chiefs — Super Rugby Pacific Round 11 (Watch Free with VPN)
DESCRIPTION:The Queensland Reds host the Chiefs in Brisbane. The Reds need a win to keep their top-four hopes alive against a clinical Chiefs outfit.\\n\\nFree on 9Now (Australia).\\n\\nFull guide: https://endorso.com/vpn/watch/super-rugby-pacific-reds-vs-chiefs-2026-05-01
URL:https://endorso.com/vpn/watch/super-rugby-pacific-reds-vs-chiefs-2026-05-01
LOCATION:https://endorso.com/vpn/watch/super-rugby-pacific-reds-vs-chiefs-2026-05-01
END:VEVENT
END:VCALENDAR