BEGIN:VCALENDAR
VERSION:2.0
PRODID:-//Endorso//Watch Free Events//EN
CALSCALE:GREGORIAN
METHOD:PUBLISH
BEGIN:VEVENT
UID:super-rugby-pacific-crusaders-vs-blues-2026-04-24@endorso.com
DTSTAMP:20260422T105328Z
DTSTART:20260424T070500Z
DTEND:20260424T090500Z
SUMMARY:Crusaders vs Blues — Super Rugby Pacific (Watch Free with VPN)
DESCRIPTION:A massive New Zealand derby as the Crusaders host the Blues in Christchurch. This Round 10 clash is vital for playoff seeding in the Super Rugby Pacific table.\\n\\nFree on TVNZ+ (New Zealand).\\n\\nFull guide: https://endorso.com/vpn/watch/super-rugby-pacific-crusaders-vs-blues-2026-04-24
URL:https://endorso.com/vpn/watch/super-rugby-pacific-crusaders-vs-blues-2026-04-24
LOCATION:https://endorso.com/vpn/watch/super-rugby-pacific-crusaders-vs-blues-2026-04-24
END:VEVENT
END:VCALENDAR