BEGIN:VCALENDAR
VERSION:2.0
PRODID:-//Endorso//Watch Free Events//EN
CALSCALE:GREGORIAN
METHOD:PUBLISH
BEGIN:VEVENT
UID:super-rugby-pacific-brumbies-vs-hurricanes-2026-05-01@endorso.com
DTSTAMP:20260425T024633Z
DTSTART:20260501T093500Z
DTEND:20260501T113500Z
SUMMARY:Brumbies vs Hurricanes — Super Rugby Pacific Round 11 (Watch Free with VPN)
DESCRIPTION:Australia's best take on the high-flying Hurricanes. A crucial match for trans-Tasman bragging rights and playoff positioning.\\n\\nFree on SBS On Demand (Australia).\\n\\nFull guide: https://endorso.com/vpn/watch/super-rugby-pacific-brumbies-vs-hurricanes-2026-05-01
URL:https://endorso.com/vpn/watch/super-rugby-pacific-brumbies-vs-hurricanes-2026-05-01
LOCATION:https://endorso.com/vpn/watch/super-rugby-pacific-brumbies-vs-hurricanes-2026-05-01
END:VEVENT
END:VCALENDAR