BEGIN:VCALENDAR
VERSION:2.0
PRODID:-//Endorso//Watch Free Events//EN
CALSCALE:GREGORIAN
METHOD:PUBLISH
BEGIN:VEVENT
UID:super-rugby-pacific-brumbies-vs-fijian-drua-2026-05-02@endorso.com
DTSTAMP:20260421T193319Z
DTSTART:20260502T093500Z
DTEND:20260502T113500Z
SUMMARY:Brumbies vs Fijian Drua — Super Rugby Pacific Round 11 (Watch Free with VPN)
DESCRIPTION:The Brumbies host the high-flying Fijian Drua in Canberra. Known for their expansive style\, the Drua look to upset the Australian powerhouse.\\n\\nFree on 9Now (Australia).\\n\\nFull guide: https://endorso.com/vpn/watch/super-rugby-pacific-brumbies-vs-fijian-drua-2026-05-02
URL:https://endorso.com/vpn/watch/super-rugby-pacific-brumbies-vs-fijian-drua-2026-05-02
LOCATION:https://endorso.com/vpn/watch/super-rugby-pacific-brumbies-vs-fijian-drua-2026-05-02
END:VEVENT
END:VCALENDAR