BEGIN:VCALENDAR
VERSION:2.0
PRODID:-//Endorso//Watch Free Events//EN
CALSCALE:GREGORIAN
METHOD:PUBLISH
BEGIN:VEVENT
UID:super-rugby-pacific-blues-vs-crusaders-2026-04-25@endorso.com
DTSTAMP:20260422T044916Z
DTSTART:20260425T070500Z
DTEND:20260425T090500Z
SUMMARY:Blues vs Crusaders — Super Rugby Pacific Round 10 (Watch Free with VPN)
DESCRIPTION:The biggest rivalry in New Zealand rugby resumes at Eden Park. Both teams are fighting for playoff seeding in this high-stakes Round 10 encounter.\\n\\nFree on TVNZ+ (New Zealand).\\n\\nFull guide: https://endorso.com/vpn/watch/super-rugby-pacific-blues-vs-crusaders-2026-04-25
URL:https://endorso.com/vpn/watch/super-rugby-pacific-blues-vs-crusaders-2026-04-25
LOCATION:https://endorso.com/vpn/watch/super-rugby-pacific-blues-vs-crusaders-2026-04-25
END:VEVENT
END:VCALENDAR