BEGIN:VCALENDAR
VERSION:2.0
PRODID:-//Endorso//Watch Free Events//EN
CALSCALE:GREGORIAN
METHOD:PUBLISH
BEGIN:VEVENT
UID:serie-a-roma-vs-milan-2026-05-02@endorso.com
DTSTAMP:20260419T195336Z
DTSTART:20260502T160000Z
DTEND:20260502T180000Z
SUMMARY:Roma vs Milan — Serie A (Watch Free with VPN)
DESCRIPTION:Roma faces Milan in a crucial Serie A encounter. Both teams are vying for a Champions League spot\, making this a high-stakes match.\\n\\nFree on RAI (Italy).\\n\\nFull guide: https://endorso.com/vpn/watch/serie-a-roma-vs-milan-2026-05-02
URL:https://endorso.com/vpn/watch/serie-a-roma-vs-milan-2026-05-02
LOCATION:https://endorso.com/vpn/watch/serie-a-roma-vs-milan-2026-05-02
END:VEVENT
END:VCALENDAR