BEGIN:VCALENDAR
VERSION:2.0
PRODID:-//Endorso//Watch Free Events//EN
CALSCALE:GREGORIAN
METHOD:PUBLISH
BEGIN:VEVENT
UID:serie-a-napoli-vs-lazio-2026-05-09@endorso.com
DTSTAMP:20260425T211010Z
DTSTART:20260509T184500Z
DTEND:20260509T204500Z
SUMMARY:Napoli vs Lazio — Serie A (Watch Free with VPN)
DESCRIPTION:A crucial battle for European spots as Napoli hosts Lazio at the Stadio Diego Armando Maradona in the closing weeks of the season.\\n\\nFree on RAI Play (Italy).\\n\\nFull guide: https://endorso.com/vpn/watch/serie-a-napoli-vs-lazio-2026-05-09
URL:https://endorso.com/vpn/watch/serie-a-napoli-vs-lazio-2026-05-09
LOCATION:https://endorso.com/vpn/watch/serie-a-napoli-vs-lazio-2026-05-09
END:VEVENT
END:VCALENDAR