BEGIN:VCALENDAR
VERSION:2.0
PRODID:-//Endorso//Watch Free Events//EN
CALSCALE:GREGORIAN
METHOD:PUBLISH
BEGIN:VEVENT
UID:serie-a-napoli-vs-lazio-2026-05-03@endorso.com
DTSTAMP:20260421T192634Z
DTSTART:20260503T184500Z
DTEND:20260503T204500Z
SUMMARY:Napoli vs Lazio — Serie A (Watch Free with VPN)
DESCRIPTION:A crucial battle for European spots in the heart of Southern Italy. Expect a passionate atmosphere at the Stadio Diego Armando Maradona.\\n\\nFree on RAI Play (Italy).\\n\\nFull guide: https://endorso.com/vpn/watch/serie-a-napoli-vs-lazio-2026-05-03
URL:https://endorso.com/vpn/watch/serie-a-napoli-vs-lazio-2026-05-03
LOCATION:https://endorso.com/vpn/watch/serie-a-napoli-vs-lazio-2026-05-03
END:VEVENT
END:VCALENDAR