BEGIN:VCALENDAR
VERSION:2.0
PRODID:-//Endorso//Watch Free Events//EN
CALSCALE:GREGORIAN
METHOD:PUBLISH
BEGIN:VEVENT
UID:serie-a-napoli-vs-inter-2026-04-26@endorso.com
DTSTAMP:20260419T170656Z
DTSTART:20260426T184500Z
DTEND:20260426T204500Z
SUMMARY:Napoli vs Inter — Serie A (Watch Free with VPN)
DESCRIPTION:A high-profile Serie A match between Napoli and Inter. Expect a tactical battle as both teams aim for a crucial victory.\\n\\nFree on RAI (Italy).\\n\\nFull guide: https://endorso.com/vpn/watch/serie-a-napoli-vs-inter-2026-04-26
URL:https://endorso.com/vpn/watch/serie-a-napoli-vs-inter-2026-04-26
LOCATION:https://endorso.com/vpn/watch/serie-a-napoli-vs-inter-2026-04-26
END:VEVENT
END:VCALENDAR