BEGIN:VCALENDAR
VERSION:2.0
PRODID:-//Endorso//Watch Free Events//EN
CALSCALE:GREGORIAN
METHOD:PUBLISH
BEGIN:VEVENT
UID:serie-a-matchday-34-2026-05-02-2026-05-04@endorso.com
DTSTAMP:20260420T111709Z
DTSTART:20260502T130000Z
DTEND:20260502T150000Z
SUMMARY:Serie A - Matchday 34 (Watch Free with VPN)
DESCRIPTION:Crucial Serie A matches as the season nears its climax. Teams fight for the title\, European spots\, and to avoid relegation.\\n\\nFree on RAI (Italy).\\n\\nFull guide: https://endorso.com/vpn/watch/serie-a-matchday-34-2026-05-02-2026-05-04
URL:https://endorso.com/vpn/watch/serie-a-matchday-34-2026-05-02-2026-05-04
LOCATION:https://endorso.com/vpn/watch/serie-a-matchday-34-2026-05-02-2026-05-04
END:VEVENT
END:VCALENDAR