BEGIN:VCALENDAR
VERSION:2.0
PRODID:-//Endorso//Watch Free Events//EN
CALSCALE:GREGORIAN
METHOD:PUBLISH
BEGIN:VEVENT
UID:serie-a-matchday-33-2026-04-25-2026-04-27@endorso.com
DTSTAMP:20260420T111638Z
DTSTART:20260425T130000Z
DTEND:20260425T150000Z
SUMMARY:Serie A - Matchday 33 (Watch Free with VPN)
DESCRIPTION:Key clashes in the Serie A title race and battle for European spots. Expect high-stakes matches as teams fight for crucial points.\\n\\nFree on RAI (Italy).\\n\\nFull guide: https://endorso.com/vpn/watch/serie-a-matchday-33-2026-04-25-2026-04-27
URL:https://endorso.com/vpn/watch/serie-a-matchday-33-2026-04-25-2026-04-27
LOCATION:https://endorso.com/vpn/watch/serie-a-matchday-33-2026-04-25-2026-04-27
END:VEVENT
END:VCALENDAR