BEGIN:VCALENDAR
VERSION:2.0
PRODID:-//Endorso//Watch Free Events//EN
CALSCALE:GREGORIAN
METHOD:PUBLISH
BEGIN:VEVENT
UID:serie-a-lazio-vs-roma-2026-05-09@endorso.com
DTSTAMP:20260425T105036Z
DTSTART:20260509T160000Z
DTEND:20260509T180000Z
SUMMARY:Lazio vs Roma — Serie A (Watch Free with VPN)
DESCRIPTION:The Derby della Capitale. One of the most intense rivalries in world football\, where city pride and European qualification are both on the line.\\n\\nFree on RAI Play (Italy).\\n\\nFull guide: https://endorso.com/vpn/watch/serie-a-lazio-vs-roma-2026-05-09
URL:https://endorso.com/vpn/watch/serie-a-lazio-vs-roma-2026-05-09
LOCATION:https://endorso.com/vpn/watch/serie-a-lazio-vs-roma-2026-05-09
END:VEVENT
END:VCALENDAR