BEGIN:VCALENDAR
VERSION:2.0
PRODID:-//Endorso//Watch Free Events//EN
CALSCALE:GREGORIAN
METHOD:PUBLISH
BEGIN:VEVENT
UID:serie-a-lazio-vs-roma-2026-04-19@endorso.com
DTSTAMP:20260419T170552Z
DTSTART:20260419T130000Z
DTEND:20260419T150000Z
SUMMARY:Lazio vs Roma — Serie A (Watch Free with VPN)
DESCRIPTION:The Rome derby is always a heated affair. Expect a fierce battle for bragging rights and crucial league points as both teams vie for European qualification.\\n\\nFree on RAI (Italy).\\n\\nFull guide: https://endorso.com/vpn/watch/serie-a-lazio-vs-roma-2026-04-19
URL:https://endorso.com/vpn/watch/serie-a-lazio-vs-roma-2026-04-19
LOCATION:https://endorso.com/vpn/watch/serie-a-lazio-vs-roma-2026-04-19
END:VEVENT
END:VCALENDAR