BEGIN:VCALENDAR
VERSION:2.0
PRODID:-//Endorso//Watch Free Events//EN
CALSCALE:GREGORIAN
METHOD:PUBLISH
BEGIN:VEVENT
UID:serie-a-juventus-vs-napoli-2026-05-03@endorso.com
DTSTAMP:20260425T040556Z
DTSTART:20260503T184500Z
DTEND:20260503T204500Z
SUMMARY:Juventus vs Napoli — Serie A (Watch Free with VPN)
DESCRIPTION:A historic rivalry between the North and South of Italy. Both teams are fighting for a top-four finish to secure European football.\\n\\nFree on RAI Play (Italy).\\n\\nFull guide: https://endorso.com/vpn/watch/serie-a-juventus-vs-napoli-2026-05-03
URL:https://endorso.com/vpn/watch/serie-a-juventus-vs-napoli-2026-05-03
LOCATION:https://endorso.com/vpn/watch/serie-a-juventus-vs-napoli-2026-05-03
END:VEVENT
END:VCALENDAR